Workbook
Name männlich: Evaluierungsblatt!#REF!

Sheet Evaluierungsblatt
A2: Hilfsmittel für die Arbeitsvorbereitung bei einer Exposition gegenüber Quarzfeinstaub
A4: Platz für Anmerkungen:
A6: =IF(L14>1,"Untersuchungen nach VGÜ erforderlich","keine Untersuchungen nach VGÜ erforderlich") -> keine Untersuchungen nach VGÜ erforderlich | D6: Expositionsdauer (min) | E6: S Exposition (mg/m³):
A7: =IF(E7>0.05,"Grenzwertüberschreitung gegeben","(vermutlich) keine Grenzwertüberschreitung ") -> (vermutlich) keine Grenzwertüberschreitung | D7: =SUM(C10:C34) -> 0 | E7: =SUM(E10:E19,E24:E27,E31:E34) -> 0
A8: =IF(SUM(C10:C34)>480,"Fehler: max. Dauer von 8 Arbeitsstunden (480 Minuten) überschritten"," ") | H8: Ja | I8: Nein
A9: Tätigkeit (laut Drop-Down-Menü) | B9: Anwendung „guter Praxis“ (Ja/Nein) | C9: angenommene Dauer der Tätigkeit (Minuten/Arbeitstag) | D9: Referenzwert (mg/m³) | E9: Exposition (mg/m³) | H9: =SUM(H10:H27) -> 0 | I9: =SUM(I10:I34) -> 0
A10: -- Tätigkeit auswählen -- | D10: =IFERROR(IF(OR(B10="Ja",F10=12),J10,G10),0) -> - | E10: =IF(C10>0,D10*C10/480,"") | F10: =IFERROR(MATCH(Evaluierungsblatt!A10,Messwerte!$C:$C,0),) -> 12 | G10: =IFERROR(INDIRECT("Messwerte!I"&Evaluierungsblatt!F10),) -> 0 | H10: =IF(B10="Ja",E10,0) -> 0 | I10: =IF(B10="Nein",E10,0) -> 0 | J10: =IF(F10=12,"-",0.05) -> - | K10: GW > 0,05 | L10: =IF(AND(E7>0.05,D7>60),1,0) -> 0
D11: =IFERROR(IF(OR(B11="Ja",F11=12),J11,G11),0) -> 0 | E11: =IF(C11>0,D11*C11/480,"") | F11: =IFERROR(MATCH(Evaluierungsblatt!A11,Messwerte!$C:$C,0),) -> 0 | G11: =IFERROR(INDIRECT("Messwerte!I"&Evaluierungsblatt!F11),) -> 0 | H11: =IF(B11="Ja",E11,0) -> 0 | I11: =IF(B11="Nein",E11,0) -> 0 | J11: =IF(F11=12,"-",0.05) -> 0.05 | K11: <=60/Tag | L11: =IF(SUM(C10:C19)<=60,0,1) -> 0
D12: =IFERROR(IF(OR(B12="Ja",F12=12),J12,G12),0) -> 0 | E12: =IF(C12>0,D12*C12/480,"") | F12: =IFERROR(MATCH(Evaluierungsblatt!A12,Messwerte!$C:$C,0),) -> 0 | G12: =IFERROR(INDIRECT("Messwerte!I"&Evaluierungsblatt!F12),) -> 0 | H12: =IF(B12="Ja",E12,0) -> 0 | I12: =IF(B12="Nein",E12,0) -> 0 | J12: =IF(F12=12,"-",0.05) -> 0.05 | K12: 1/2-MAK ohne Maßn | L12: =IF(I9<=0.025,0,1) -> 0
D13: =IFERROR(IF(OR(B13="Ja",F13=12),J13,G13),0) -> 0 | E13: =IF(C13>0,D13*C13/2400,"") | F13: =IFERROR(MATCH(Evaluierungsblatt!A13,Messwerte!$C:$C,0),) -> 0 | G13: =IFERROR(INDIRECT("Messwerte!I"&Evaluierungsblatt!F13),) -> 0 | H13: =IF(B13="Ja",E13,0) -> 0 | I13: =IF(B13="Nein",E13,0) -> 0 | J13: =IF(F13=12,"-",0.05) -> 0.05 | K13: 1/1-MAK + Maßn | L13: =IF(H9<=0.05,0,1) -> 0
D14: =IFERROR(IF(OR(B14="Ja",F14=12),J14,G14),0) -> 0 | E14: =IF(C14>0,D14*C14/2400,"") | F14: =IFERROR(MATCH(Evaluierungsblatt!A14,Messwerte!$C:$C,0),) -> 0 | G14: =IFERROR(INDIRECT("Messwerte!I"&Evaluierungsblatt!F14),) -> 0 | H14: =IF(B14="Ja",E14,0) -> 0 | I14: =IF(B14="Nein",E14,0) -> 0 | J14: =IF(F14=12,"-",0.05) -> 0.05 | K14: Summe | L14: =SUM(L10:L13) -> 0
D15: =IFERROR(IF(OR(B15="Ja",F15=12),J15,G15),0) -> 0 | E15: =IF(C15>0,D15*C15/2400,"") | F15: =IFERROR(MATCH(Evaluierungsblatt!A15,Messwerte!$C:$C,0),) -> 0 | G15: =IFERROR(INDIRECT("Messwerte!I"&Evaluierungsblatt!F15),) -> 0 | H15: =IF(B15="Ja",E15,0) -> 0 | I15: =IF(B15="Nein",E15,0) -> 0 | J15: =IF(F15=12,"-",0.05) -> 0.05
D16: =IFERROR(IF(OR(B16="Ja",F16=12),J16,G16),0) -> 0 | E16: =IF(C16>0,D16*C16/2400,"") | F16: =IFERROR(MATCH(Evaluierungsblatt!A16,Messwerte!$C:$C,0),) -> 0 | G16: =IFERROR(INDIRECT("Messwerte!I"&Evaluierungsblatt!F16),) -> 0 | H16: =IF(B16="Ja",E16,0) -> 0 | I16: =IF(B16="Nein",E16,0) -> 0 | J16: =IF(F16=12,"-",0.05) -> 0.05
D17: =IFERROR(IF(OR(B17="Ja",F17=12),J17,G17),0) -> 0 | E17: =IF(C17>0,D17*C17/2400,"") | F17: =IFERROR(MATCH(Evaluierungsblatt!A17,Messwerte!$C:$C,0),) -> 0 | G17: =IFERROR(INDIRECT("Messwerte!I"&Evaluierungsblatt!F17),) -> 0 | H17: =IF(B17="Ja",E17,0) -> 0 | I17: =IF(B17="Nein",E17,0) -> 0 | J17: =IF(F17=12,"-",0.05) -> 0.05
D18: =IFERROR(IF(OR(B18="Ja",F18=12),J18,G18),0) -> 0 | E18: =IF(C18>0,D18*C18/2400,"") | F18: =IFERROR(MATCH(Evaluierungsblatt!A18,Messwerte!$C:$C,0),) -> 0 | G18: =IFERROR(INDIRECT("Messwerte!I"&Evaluierungsblatt!F18),) -> 0 | H18: =IF(B18="Ja",E18,0) -> 0 | I18: =IF(B18="Nein",E18,0) -> 0 | J18: =IF(F18=12,"-",0.05) -> 0.05
D19: =IFERROR(IF(OR(B19="Ja",F19=12),J19,G19),0) -> 0 | E19: =IF(C19>0,D19*C19/2400,"") | F19: =IFERROR(MATCH(Evaluierungsblatt!A19,Messwerte!$C:$C,0),) -> 0 | G19: =IFERROR(INDIRECT("Messwerte!I"&Evaluierungsblatt!F19),) -> 0 | H19: =IF(B19="Ja",E19,0) -> 0 | I19: =IF(B19="Nein",E19,0) -> 0 | J19: =IF(F19=12,"-",0.05) -> 0.05
D20: S mit "guter Praxis" | E20: =SUM(H10:H19) -> 0
D21: S ohne "guter Praxis" | E21: =SUM(I10:I19) -> 0
A23: Tätigkeit + Messwerte + Reduktionsmaßnahmen | C23: angenommene Dauer der Tätigkeit (Minuten/Arbeitstag) | D23: Messwert (mg/m³) | E23: Exposition (mg/m³)
A24: -- Tätigkeit eintragen -- | D24: 0 | E24: =IF(C24>0,D24*C24/480,"") | H24: =E24
E25: =IF(C25>0,D25*C25/480,"") | H25: =E25
E26: =IF(C26>0,D26*C26/480,"") | H26: =E26
E27: =IF(C27>0,D27*C27/480,"") | H27: =E27
D28: S | E28: =SUM(E24:E27) -> 0 | H28: =E28 -> 0
E29: =IF(C29>0,D29*C29/60/8,"") | H29: =E29
A30: Tätigkeit + Messwerte - ohne Reduktionsmaßnahmen | C30: angenommene Dauer der Tätigkeit (Minuten/Arbeitstag) | D30: Messwert (mg/m³) | E30: Exposition (mg/m³)
A31: -- Tätigkeit eintragen -- | D31: 0 | E31: =IF(C31>0,D31*C31/480,"") | I31: =E31
E32: =IF(C32>0,D32*C32/480,"") | I32: =E32
E33: =IF(C33>0,D33*C33/480,"") | I33: =E33
E34: =IF(C34>0,D34*C34/480,"") | I34: =E34
D35: S | E35: =SUM(E31:E34) -> 0 | I35: =E35 -> 0

Sheet Messwerte
A1: # | B1: Anz | C1: Tätigkeit | D1: Gute Praxis ++ | E1: + | F1: - | G1: Schelchte Praxis --
A2: 1 | B2: 4 | C2: Reinigen bei Bautätigkeiten | D2: Kehrsaugmaschine, Nasskehrmaschine Nassreinigung, Bauentstauber | F2: Einsatz von Kehrspänen | G2: Trocken kehren | I2: 0.41
A3: 2 | B3: 3 | C3: Bohren (Bohrer, Kernbohrer) | D3: Absaugbohrer bzw. Bohrmaschine mit Absaugung | E3: Nass bohren | G3: Trocken bohren | I3: 2.15
A4: 3 | C4: Verdichtung von Boden/Planum | D4: Verdichtung von erdfeuchtem Material, Oberfläche erdfeucht halten | G4: Planieren/verdichten von trockenen Oberflächen | I4: 0.22
A5: 4 | C5: Einsatz von Baufahrzeugen und Erdbaumaschinen | D5: Kabine geschlossen, wirksame Zuluftfilterung oder Befeuchtung der genutzen Arbeitsflächen | G5: Kabine (teilweise) offen | I5: 0.445
A6: 5 | C6: Estrich entfernen | D6: Abgesaugter Stzemmmeißel mirtLuftreiniger | E6: Stemmmeißel, Luftreiniger | G6: Stemmen ohne Absaugung/Luftreinigung | I6: 0.79
A7: 6 | B7: 4 | C7: Stemmen, Meißeln, Beton | D7: abgesaugte Handmaschine in Kombination mit Luftreiniger | E7: abgesaugte Handmaschinen, Beton nass schneiden/sägen | G7: Stemmen, Meißeln, Abbruch ohne Absaugung; kein Schneiden | I7: 0.82
A8: 7 | C8: Baugrubenaushub, maschinell | D8: Kabine geschlossen, mit wirksamer Zuluftfilterung oder erdfeuchtes Material | G8: Kabine (teilweise) offen | I8: 0.445
A9: 8 | C9: Putz entfernen, ebene Flächen | D9: Abgesaugte Putzfräsen | E9: Abgesaugte Stemmmeißel mit Luftreiniger | F9: Putz abschlagen mit Luftreiniger | G9: Putz abschlagen ohne Absaugung/Luftreiniger | I9: 0.79
A10: 9 | C10: Trockenbau, abschleifen | D10: Abgesaugte Exzenter/-schwingschleifer | G10: Ohne Abschaugung | I10: 0.21
A11: 10 | C11: Gebäudereinigung | D11: Bauentstauber, Industriesauger, Staubklasse M | G11: Trocken kehren | I11: 0.41
A12: 11 | C12: -- Tätigkeit auswählen -- | I12: 0
